BEGIN:VCALENDAR
VERSION:2.0
PRODID:-//Lions Club Draguignan Saint Hermentaire - ECPv6.15.20//NONSGML v1.0//EN
CALSCALE:GREGORIAN
METHOD:PUBLISH
X-ORIGINAL-URL:https://lions-club-draguignan-sthermentaire.fr
X-WR-CALDESC:Évènements pour Lions Club Draguignan Saint Hermentaire
REFRESH-INTERVAL;VALUE=DURATION:PT1H
X-Robots-Tag:noindex
X-PUBLISHED-TTL:PT1H
BEGIN:VTIMEZONE
TZID:Europe/Paris
BEGIN:DAYLIGHT
TZOFFSETFROM:+0100
TZOFFSETTO:+0200
TZNAME:CEST
DTSTART:20250330T010000
END:DAYLIGHT
BEGIN:STANDARD
TZOFFSETFROM:+0200
TZOFFSETTO:+0100
TZNAME:CET
DTSTART:20251026T010000
END:STANDARD
BEGIN:DAYLIGHT
TZOFFSETFROM:+0100
TZOFFSETTO:+0200
TZNAME:CEST
DTSTART:20260329T010000
END:DAYLIGHT
BEGIN:STANDARD
TZOFFSETFROM:+0200
TZOFFSETTO:+0100
TZNAME:CET
DTSTART:20261025T010000
END:STANDARD
BEGIN:DAYLIGHT
TZOFFSETFROM:+0100
TZOFFSETTO:+0200
TZNAME:CEST
DTSTART:20270328T010000
END:DAYLIGHT
BEGIN:STANDARD
TZOFFSETFROM:+0200
TZOFFSETTO:+0100
TZNAME:CET
DTSTART:20271031T010000
END:STANDARD
END:VTIMEZONE
BEGIN:VEVENT
DTSTART;TZID=Europe/Paris:20260601T000000
DTEND;TZID=Europe/Paris:20260831T000000
DTSTAMP:20260425T212632
CREATED:20260413T135037Z
LAST-MODIFIED:20260414T163831Z
UID:3782-1780272000-1788134400@lions-club-draguignan-sthermentaire.fr
SUMMARY:Vacances Plein Air (été 2026)
DESCRIPTION:C’est parti pour deux semaines de bonheur…\n     \n  \n \n  \nCréée en 1985 en Dordogne\, Vacances Plein Air (VPA) est une action majeure des Lions clubs de France en faveur de l’enfance. Chaque année\, VPA offre à près de 2 000 enfants de 6 à 13 ans – qui\, sans cela\, ne partiraient jamais en vacances – des séjours à la mer\, à la montagne ou à la campagne organisés autour d’un projet éducatif. \nL’association régionale VPA Var-Alpes Maritimes a envoyé l’été 2025 une centaine d’enfants issus de familles modestes afin de leur apporter dépaysement et joie de vivre dans un des 4 centres : Vars les Claux\, Le Noyer en Champsaur\, le Logis du Pin et la Londe les Maures. \nLe Lions Club Draguigan Saint Hermentaire soutient VPA chaque année grâce a vous!
URL:https://lions-club-draguignan-sthermentaire.fr/event/vacances-plein-air/
ATTACH;FMTTYPE=image/jpeg:https://lions-club-draguignan-sthermentaire.fr/wp-content/uploads/2026/04/1.jpeg
END:VEVENT
END:VCALENDAR